BEGIN:VCALENDAR
VERSION:2.0
PRODID:-//eventon.com NONSGML v1.0//EN
CALSCALE:GREGORIAN
METHOD:PUBLISH
BEGIN:VEVENT
UID:69e87c1689273
DTSTAMP:20260422T074318Z
DTSTART:20240322T190000Z
DTEND:20240322T225900Z
LOCATION:Polch
SUMMARY:SV Ruitsch-Kerben vs. SG Hambuch II
DESCRIPTION:2. Mannschaft &#8211; Kreisliga C Staffel 1 &nbsp; &nbsp;  \nh
 ttps://hambuch.info/events/sv-ruitsch-kerben-vs-sg-hambuch-ii/
URL:https://hambuch.info/events/sv-ruitsch-kerben-vs-sg-hambuch-ii/
END:VEVENT
END:VCALENDAR