BEGIN:VCALENDAR
VERSION:2.0
PRODID:-//eventon.com NONSGML v1.0//EN
CALSCALE:GREGORIAN
METHOD:PUBLISH
BEGIN:VEVENT
UID:69e794a05213d
DTSTAMP:20260421T151544Z
DTSTART:20240310T113000Z
DTEND:20240310T225900Z
LOCATION:Blankenrath
SUMMARY:SV Blankenrath II vs. SG Hambuch
DESCRIPTION:1. Mannschaft – Kreisliga B Staffel 11 &nbsp; &nbsp;  \nhttp
 s://hambuch.info/events/sv-blankenrath-ii-vs-sg-hambuch/
URL:https://hambuch.info/events/sv-blankenrath-ii-vs-sg-hambuch/
END:VEVENT
END:VCALENDAR