BEGIN:VCALENDAR
VERSION:2.0
PRODID:-//eventon.com NONSGML v1.0//EN
CALSCALE:GREGORIAN
METHOD:PUBLISH
BEGIN:VEVENT
UID:69e6c6c69c1e8
DTSTAMP:20260421T003726Z
DTSTART:20240428T110000Z
DTEND:20240428T215900Z
LOCATION:
SUMMARY:St. Hubertus Schützenbruderschaft - Schützenfest in Hambuch
DESCRIPTION:Sehr geehrte Schützenbrüder\,  Schützenschwestern\,  Jung- u
 nd Schülerschützen\,  wir laden Sie/Euch sehr herzlich zu unserem Schütz
 enfest am Sonntag\,  den 28.04.2024 ein. Anlässlich des 130-jährigen Best
 ehens der Schützenbruderschaft Hambuch\,  sowie zu Ehren unseres Bundes-Ba
 mbiniprinzen Mathis Klasen\,  findet das diesjährige Schützenfest in der 
 Dorfmitte (Veranstaltungsort: Probstei) statt. Geplanter Ablauf: 09:30 Uhr 
 Festmesse in[..]\nhttps://hambuch.info/events/st-hubertus-schuetzenbrudersc
 haft-schuetzenfest-2024/
URL:https://hambuch.info/events/st-hubertus-schuetzenbruderschaft-schuetzenfest-2024/
END:VEVENT
END:VCALENDAR