BEGIN:VCALENDAR
VERSION:2.0
PRODID:-//eventon.com NONSGML v1.0//EN
CALSCALE:GREGORIAN
METHOD:PUBLISH
BEGIN:VEVENT
UID:69e4c653d803e
DTSTAMP:20260419T121059Z
DTSTART:20240327T180000Z
DTEND:20240327T225900Z
LOCATION:Probstei Hambuch Hauptstraße 35
SUMMARY:Jahreshauptversammlung 2024 der SG Hambuch / Kaifenheim / Brohl / Brachtendorf / Forst
DESCRIPTION:Liebes Mitglied\,  liebe Mitglieder\,  am 27.03.2024 um 19:00 U
 hr findet unsere diesjährige Jahreshauptversammlung in der Probstei in Ham
 buch statt. Tagesordnung: Begrüßung durch den Vorsitzenden des Vorstands 
 Geschäftsbericht Kassenbericht Bericht der Kassenprüfer und Antrag auf En
 tlastung Neuwahlen Verschiedenes Anträge für Ergänzungen der Tagesordnun
 g müssen bis eine Woche vor der Versammlung schriftlich[..]\nhttps://hambu
 ch.info/events/jahreshauptversammlung-2024-sg/
URL:https://hambuch.info/events/jahreshauptversammlung-2024-sg/
END:VEVENT
END:VCALENDAR