BEGIN:VCALENDAR
VERSION:2.0
PRODID:-//eventon.com NONSGML v1.0//EN
CALSCALE:GREGORIAN
METHOD:PUBLISH
BEGIN:VEVENT
UID:69e73eeb40ee9
DTSTAMP:20260421T091003Z
DTSTART:20230308T180000Z
DTEND:20230308T225900Z
LOCATION:Probstei Hambuch Hauptstraße 35
SUMMARY:Jahreshauptversammlung Dorfakademie 2024
DESCRIPTION:Liebe Mitglieder der Dorfakademie Hambuch\,  liebe Freunde und 
 interessierte Bürger! Ein für die DA erfolgreiches Jahr ist vorbei und wi
 r haben den Eindruck einen guten Beitrag zum kulturellen Leben in Hambuch b
 eigesteuert zu haben\,  was zahlreiche Rückmeldungen uns bestätigen. Weil
  aber Stillstand wie Rückschritt ist\,  gilt es für die DA[..]\nhttps://h
 ambuch.info/events/jahreshauptversammlung-dorfakademie-2024/
URL:https://hambuch.info/events/jahreshauptversammlung-dorfakademie-2024/
END:VEVENT
END:VCALENDAR