BEGIN:VCALENDAR
VERSION:2.0
PRODID:-//eventon.com NONSGML v1.0//EN
CALSCALE:GREGORIAN
METHOD:PUBLISH
BEGIN:VEVENT
UID:69ed81a653e36
DTSTAMP:20260426T030822Z
DTSTART:20231218T140000Z
DTEND:20231218T225000Z
LOCATION:Schützenhalle Hambuch
SUMMARY:St. Hubertus Schützenbruderschaft - Schützenhalle winterfest machen
DESCRIPTION:Am 18.12.2023 möchten wir die Halle Winterfest machen. Beginne
 n wollen wir um 15 Uhr.\nhttps://hambuch.info/events/schuetzenhalle-winterf
 est-machen/
URL:https://hambuch.info/events/schuetzenhalle-winterfest-machen/
END:VEVENT
END:VCALENDAR