BEGIN:VCALENDAR
VERSION:2.0
PRODID:-//eventon.com NONSGML v1.0//EN
CALSCALE:GREGORIAN
METHOD:PUBLISH
BEGIN:VEVENT
UID:69ebad1746964
DTSTAMP:20260424T174911Z
DTSTART:20231008T124500Z
DTEND:20231008T215000Z
LOCATION:Belg
SUMMARY:SG Hunsrückhöhe Bärenbach vs. SG Hambuch
DESCRIPTION:1. Mannschaft – Kreisliga B 11\nhttps://hambuch.info/events/s
 g-hunsrueckhoehe-baerenbach-vs-sg-hambuch-2023-2/
URL:https://hambuch.info/events/sg-hunsrueckhoehe-baerenbach-vs-sg-hambuch-2023-2/
END:VEVENT
END:VCALENDAR