BEGIN:VCALENDAR
VERSION:2.0
PRODID:-//eventon.com NONSGML v1.0//EN
CALSCALE:GREGORIAN
METHOD:PUBLISH
BEGIN:VEVENT
UID:69e7f2bf1f5a7
DTSTAMP:20260421T215719Z
DTSTART:20230924
DTEND:20230925
LOCATION:Binningen
SUMMARY:Schützenfest Binningen
DESCRIPTION:Am 24.09.2023 hat uns wieder die Schützenbruderschaft Binninge
 n zu ihrem Schützenfest eingeladen. Beginnen wir der Tag um 13:30 Uhr mit 
 dem Antreten der Fahnenabordnungen vor der Schützenhalle mit Abnahme durch
  die amtierenden Majestäten (bitte beachten: es findet kein Festzug statt.
 ) Um 14:00 Uhr beginnen die Schießwettbewerbe auf Wertadler und Konkurrenz
 scheiben.\nhttps://hambuch.info/events/schuetzenfest-binningen-2023/
URL:https://hambuch.info/events/schuetzenfest-binningen-2023/
END:VEVENT
END:VCALENDAR