BEGIN:VCALENDAR
VERSION:2.0
PRODID:-//eventon.com NONSGML v1.0//EN
CALSCALE:GREGORIAN
METHOD:PUBLISH
BEGIN:VEVENT
UID:69ecbe2151112
DTSTAMP:20260425T131409Z
DTSTART:20230909T160000Z
DTEND:20230909T215000Z
LOCATION:Kaifenheim
SUMMARY:SG Hambuch vs. TuS Kirchberg III
DESCRIPTION:1. Mannschaft – Kreisliga B 11\nhttps://hambuch.info/events/s
 g-hambuch-vs-tus-kirchberg-iii-2023/
URL:https://hambuch.info/events/sg-hambuch-vs-tus-kirchberg-iii-2023/
END:VEVENT
END:VCALENDAR