BEGIN:VCALENDAR
VERSION:2.0
PRODID:-//eventon.com NONSGML v1.0//EN
CALSCALE:GREGORIAN
METHOD:PUBLISH
BEGIN:VEVENT
UID:69e73f45c9c4e
DTSTAMP:20260421T091133Z
DTSTART:20221109T183000Z
DTEND:20221109T225000Z
LOCATION:Kaifenheim
SUMMARY:Achtelfinale des Kreispokals 1 - SG Hambuch vs. SV Masburg
DESCRIPTION:1. Mannschaft    \nhttps://hambuch.info/events/achtelfinale-d
 es-kreispokals-1-2022/
URL:https://hambuch.info/events/achtelfinale-des-kreispokals-1-2022/
END:VEVENT
END:VCALENDAR