BEGIN:VCALENDAR
VERSION:2.0
PRODID:-//eventon.com NONSGML v1.0//EN
CALSCALE:GREGORIAN
METHOD:PUBLISH
BEGIN:VEVENT
UID:69e7114608f4d
DTSTAMP:20260421T055518Z
DTSTART:20221030
DTEND:20221031
LOCATION:Mayen
SUMMARY:Diözesankönigsfest in Mayen
DESCRIPTION:Am 30.10.2022 findet das Diözesankönigsfest in Mayen statt. H
 ier wäre es schön\,  wenn wir auch dort eine Abordnung vor Ort hätten. E
 inzelheiten zum Termin schicke ich per Whatsapp und Mail.\nhttps://hambuch.
 info/events/dioezesankoenigsfest-in-mayen-2022/
URL:https://hambuch.info/events/dioezesankoenigsfest-in-mayen-2022/
END:VEVENT
END:VCALENDAR