BEGIN:VCALENDAR
VERSION:2.0
PRODID:-//eventon.com NONSGML v1.0//EN
CALSCALE:GREGORIAN
METHOD:PUBLISH
BEGIN:VEVENT
UID:69ea54c09462e
DTSTAMP:20260423T172000Z
DTSTART:20221204T134500Z
DTEND:20221204T225000Z
LOCATION:
SUMMARY:SG Hambuch vs. SSV Ellenz-Poltersdorf
DESCRIPTION:Heimspiele unserer 1. Mannschaft in der Kreisliga B Staffel 1 Â
   Â \nhttps://hambuch.info/events/sg-hambuch-vs-ssv-ellenz-poltersdorf-2022
 /
URL:https://hambuch.info/events/sg-hambuch-vs-ssv-ellenz-poltersdorf-2022/
END:VEVENT
END:VCALENDAR