BEGIN:VCALENDAR
VERSION:2.0
PRODID:-//eventon.com NONSGML v1.0//EN
CALSCALE:GREGORIAN
METHOD:PUBLISH
BEGIN:VEVENT
UID:69e96b1ddfdce
DTSTAMP:20260423T004309Z
DTSTART:20220909T180000Z
DTEND:20220909T215000Z
LOCATION:
SUMMARY:SG Hambuch vs. SG Unzenberg
DESCRIPTION:Heimspiele unserer 1. Mannschaft in der Kreisliga B Staffel 1 Â
   Â \nhttps://hambuch.info/events/sg-hambuch-vs-sg-unzenberg-2022/
URL:https://hambuch.info/events/sg-hambuch-vs-sg-unzenberg-2022/
END:VEVENT
END:VCALENDAR