BEGIN:VCALENDAR
VERSION:2.0
PRODID:-//eventon.com NONSGML v1.0//EN
CALSCALE:GREGORIAN
METHOD:PUBLISH
BEGIN:VEVENT
UID:69ed0cce9bb4d
DTSTAMP:20260425T184950Z
DTSTART:20220828T124500Z
DTEND:20220828T215000Z
LOCATION:
SUMMARY:SG Hambuch vs. TuS Kirchberg III
DESCRIPTION:Heimspiele unserer 1. Mannschaft in der Kreisliga B Staffel 1 Â
   Â \nhttps://hambuch.info/events/sg-hambuch-vs-tus-kirchberg-iii-2022/
URL:https://hambuch.info/events/sg-hambuch-vs-tus-kirchberg-iii-2022/
END:VEVENT
END:VCALENDAR