BEGIN:VCALENDAR
VERSION:2.0
PRODID:-//eventon.com NONSGML v1.0//EN
CALSCALE:GREGORIAN
METHOD:PUBLISH
BEGIN:VEVENT
UID:69e4dbe73b346
DTSTAMP:20260419T134303Z
DTSTART:20220813T161500Z
DTEND:20220813T215000Z
LOCATION:
SUMMARY:SG Hambuch vs. SG Bremm II
DESCRIPTION:Heimspiele unserer 1. Mannschaft in der Kreisliga B Staffel 1 Â
   Â \nhttps://hambuch.info/events/sg-hambuch-vs-sg-bremm-ii-2022/
URL:https://hambuch.info/events/sg-hambuch-vs-sg-bremm-ii-2022/
END:VEVENT
END:VCALENDAR