BEGIN:VCALENDAR
VERSION:2.0
PRODID:-//eventon.com NONSGML v1.0//EN
CALSCALE:GREGORIAN
METHOD:PUBLISH
BEGIN:VEVENT
UID:69e7e465c887b
DTSTAMP:20260421T205605Z
DTSTART:20220607T170000Z
DTEND:20220607T215000Z
LOCATION:Probstei Hambuch Hauptstraße 35
SUMMARY:29. Sitzung des Ortsgemeinderates Hambuch
DESCRIPTION:Am Dienstag\,  07.06.2022 um 19:00 Uhr findet eine öffentliche
 /nichtöffentliche Sitzung statt. Gremien: Ortsgemeinderat Hambuch Ort: Ham
 buch Raum: Gemeindehaus „Haus Probstei“ Tagesordnung Öffentlicher Teil
  Einwohnerfragestunde gemäß § 16 a GemO Beratung und Beschlussfassung ü
 ber den Entwurf der 4. Teilfortschreibung des Landesentwicklungsprogramms (
 Vierte Teilfortschreibung LEP IV) Mitteilungen des Vorsitzenden Nichtöffen
 tlicher Teil Mitteilungen[..]\nhttps://hambuch.info/events/29-sitzung-des-o
 rtsgemeinderates-hambuch-2022/
URL:https://hambuch.info/events/29-sitzung-des-ortsgemeinderates-hambuch-2022/
END:VEVENT
END:VCALENDAR