BEGIN:VCALENDAR
VERSION:2.0
PRODID:-//eventon.com NONSGML v1.0//EN
CALSCALE:GREGORIAN
METHOD:PUBLISH
BEGIN:VEVENT
UID:69e74b957c640
DTSTAMP:20260421T100405Z
DTSTART:20220502T170000Z
DTEND:20220502T215000Z
LOCATION:Probstei Hambuch Hauptstraße 35
SUMMARY:28.Sitzung des Ortsgemeinderates Hambuch
DESCRIPTION:Am Montag\,  02.05.2022\,  um 19:00 Uhr findet eine öffentlich
 e/nichtöffentliche Sitzung statt. Gremien: Ortsgemeinderat Hambuch Ort: Ha
 mbuch Raum: Gemeindehaus „Haus Probstei“ Tagesordnung Öffentlicher Tei
 l Beratung und Beschlussfassung über die Neuaufstellung des Forsteinrichtu
 ngswerkes für den Gemeindewald Hambuch Einwohnerfragestunde gemäß § 16 
 a GemO Beratung und Beschlussfassung über das gemeindliche Einvernehmen zu
  einer[..]\nhttps://hambuch.info/events/28-sitzung-des-ortsgemeinderates-ha
 mbuch-2022/
URL:https://hambuch.info/events/28-sitzung-des-ortsgemeinderates-hambuch-2022/
END:VEVENT
END:VCALENDAR