BEGIN:VCALENDAR
VERSION:2.0
PRODID:-//eventon.com NONSGML v1.0//EN
CALSCALE:GREGORIAN
METHOD:PUBLISH
BEGIN:VEVENT
UID:69e611afb67ca
DTSTAMP:20260420T114447Z
DTSTART:20220402T153000Z
DTEND:20220402T215000Z
LOCATION:Mastershausen
SUMMARY:Sportfreunde Mastershausen vs SG Hambuch II
DESCRIPTION:2. Mannschaft &#8211; Staffel 1 Meisterrunde    \nhttps://ham
 buch.info/events/sportfreunde-mastershausen-vs-sg-hambuch-ii-202204/
URL:https://hambuch.info/events/sportfreunde-mastershausen-vs-sg-hambuch-ii-202204/
END:VEVENT
END:VCALENDAR