BEGIN:VCALENDAR
VERSION:2.0
PRODID:-//eventon.com NONSGML v1.0//EN
CALSCALE:GREGORIAN
METHOD:PUBLISH
BEGIN:VEVENT
UID:69e51e755f353
DTSTAMP:20260419T182701Z
DTSTART:20211117
DTEND:20211118
LOCATION:Kindergarten &quot;Rasselbande&quot; in Hambuch
SUMMARY:Turnen WZK
DESCRIPTION:Turnen WZK\nhttps://hambuch.info/events/turnen-wzk-20211117/
URL:https://hambuch.info/events/turnen-wzk-20211117/
END:VEVENT
END:VCALENDAR