BEGIN:VCALENDAR
VERSION:2.0
PRODID:-//eventon.com NONSGML v1.0//EN
CALSCALE:GREGORIAN
METHOD:PUBLISH
BEGIN:VEVENT
UID:69e73bed6918b
DTSTAMP:20260421T085717Z
DTSTART:20211105T190000Z
DTEND:20211105T225000Z
LOCATION:Probstei Hambuch Hauptstraße 35
SUMMARY:Jahreshauptversammlung HKV 2021
DESCRIPTION:Jahreshauptversammlung HKV 2021 Die Jahreshauptversammlung find
 et am Freitag\,  den 05.11.2021 um 20:00 Uhr in der Probstei statt. Folgend
 e Punkte stehen auf der Tagesordnung: Begrüßung Rechenschaftsbericht Beri
 cht der Kassenprüfer Entlastung des Vorstands Änderung der Satzung Versch
 iedenes Über zahlreiches Erscheinen freut sich der Vorstand.\nhttps://hamb
 uch.info/events/jahreshauptversammlung-hkv-2021/
URL:https://hambuch.info/events/jahreshauptversammlung-hkv-2021/
END:VEVENT
END:VCALENDAR