BEGIN:VCALENDAR
VERSION:2.0
PRODID:-//eventon.com NONSGML v1.0//EN
CALSCALE:GREGORIAN
METHOD:PUBLISH
BEGIN:VEVENT
UID:69e5829a0b4f5
DTSTAMP:20260420T013418Z
DTSTART:20211020
DTEND:20211021
LOCATION:Kindergarten &quot;Rasselbande&quot; in Hambuch
SUMMARY:Turnen WZK
DESCRIPTION:Turnen WZK\nhttps://hambuch.info/events/turnen-wzk-20211020/
URL:https://hambuch.info/events/turnen-wzk-20211020/
END:VEVENT
END:VCALENDAR