BEGIN:VCALENDAR
VERSION:2.0
PRODID:-//eventon.com NONSGML v1.0//EN
CALSCALE:GREGORIAN
METHOD:PUBLISH
BEGIN:VEVENT
UID:69e5b3a8cd956
DTSTAMP:20260420T050336Z
DTSTART:20211001T180000Z
DTEND:20211001T215000Z
LOCATION:Probstei Hambuch Hauptstraße 35
SUMMARY:Jahreshauptversammlung des SV Hambuch 2021
DESCRIPTION:Die diesjährige Jahreshauptversammlung des SV Hambuch findet a
 m Freitag\,  den 01.10.2021\,  um 20:00 Uhr in der Probstei in Hambuch stat
 t. Aufgrund der CORONA-Bedingungen bitten wir bei Teilnahme die 3-G-Regel (
 Genesen\,  Geimpft\,  Getestet) zu beachten. Tagesordnung: Begrüßung durc
 h den Vorsitzenden Geschäftsbericht Kassenbericht SV Hambuch Kassenbericht
  SG Hambuch Bericht der Kassenprüfer Entlastung[..]\nhttps://hambuch.info/
 events/jahreshauptversammlung-des-sv-hambuch-2021/
URL:https://hambuch.info/events/jahreshauptversammlung-des-sv-hambuch-2021/
END:VEVENT
END:VCALENDAR