BEGIN:VCALENDAR
VERSION:2.0
PRODID:-//eventon.com NONSGML v1.0//EN
CALSCALE:GREGORIAN
METHOD:PUBLISH
BEGIN:VEVENT
UID:69e73c0d87765
DTSTAMP:20260421T085749Z
DTSTART:20211103
DTEND:20211104
LOCATION:Kindergarten &quot;Rasselbande&quot; in Hambuch
SUMMARY:Turnen WZK
DESCRIPTION:Turnen WZK\nhttps://hambuch.info/events/turnen-wzk-20211103/
URL:https://hambuch.info/events/turnen-wzk-20211103/
END:VEVENT
END:VCALENDAR