BEGIN:VCALENDAR
VERSION:2.0
PRODID:-//eventon.com NONSGML v1.0//EN
CALSCALE:GREGORIAN
METHOD:PUBLISH
BEGIN:VEVENT
UID:69ed18ab07953
DTSTAMP:20260425T194027Z
DTSTART:20210809
DTEND:20210810
LOCATION:Kindergarten &quot;Rasselbande&quot; in Hambuch
SUMMARY:Ferien bis zum 20.08.2021
DESCRIPTION:Ferien bis zum 20.08.2021\nhttps://hambuch.info/events/ferien-2
 02108/
URL:https://hambuch.info/events/ferien-202108/
END:VEVENT
END:VCALENDAR