BEGIN:VCALENDAR
VERSION:2.0
PRODID:-//eventon.com NONSGML v1.0//EN
CALSCALE:GREGORIAN
METHOD:PUBLISH
BEGIN:VEVENT
UID:69e73befba2de
DTSTAMP:20260421T085719Z
DTSTART:20210705
DTEND:20210706
LOCATION:Kindergarten &quot;Rasselbande&quot; in Hambuch
SUMMARY:Projektwoche der Wackelzahnkinder
DESCRIPTION:Projektwoche der Wackelzahnkinder\nhttps://hambuch.info/events/
 projektwoche-der-wackelzahnkinder/
URL:https://hambuch.info/events/projektwoche-der-wackelzahnkinder/
END:VEVENT
END:VCALENDAR