BEGIN:VCALENDAR
VERSION:2.0
PRODID:-//eventon.com NONSGML v1.0//EN
CALSCALE:GREGORIAN
METHOD:PUBLISH
BEGIN:VEVENT
UID:69ed7861ee968
DTSTAMP:20260426T022849Z
DTSTART:20210603
DTEND:20210604
LOCATION:
SUMMARY:Absage KÃ¶nigsschieÃŸen am 03.06.2021
DESCRIPTION:St. Sebastianus SchÃ¼tzenbruderschaft Hambuch 1894 e. V. &#8211
 ; Absage KÃ¶nigsschieÃŸen am 03.06.2021 Liebe SchÃ¼tzenschwestern und SchÃ¼
 tzenbrÃ¼der\,  leider mÃ¼ssen wir auch in diesem Jahr aufgrund der EinschrÃ
 ¤nkungen durch die Corona (COVID-19) Pandemie unser KÃ¶nigsschieÃŸen am 03.
 06.2021 in Hambuch absagen.\nhttps://hambuch.info/events/abgesagt-koenigssc
 hiessen-2021/
URL:https://hambuch.info/events/abgesagt-koenigsschiessen-2021/
END:VEVENT
END:VCALENDAR