BEGIN:VCALENDAR
VERSION:2.0
PRODID:-//eventon.com NONSGML v1.0//EN
CALSCALE:GREGORIAN
METHOD:PUBLISH
BEGIN:VEVENT
UID:69e847c6c2fb2
DTSTAMP:20260422T040006Z
DTSTART:20201116
DTEND:20201117
LOCATION:Kindergarten &quot;Rasselbande&quot; in Hambuch
SUMMARY:Bibliothek
DESCRIPTION:Bibliothek\nhttps://hambuch.info/events/bibliothek-20201116/
URL:https://hambuch.info/events/bibliothek-20201116/
END:VEVENT
END:VCALENDAR