BEGIN:VCALENDAR
VERSION:2.0
PRODID:-//eventon.com NONSGML v1.0//EN
CALSCALE:GREGORIAN
METHOD:PUBLISH
BEGIN:VEVENT
UID:69eae0dd6687a
DTSTAMP:20260424T031749Z
DTSTART:20200927T143000Z
DTEND:20200927T235000Z
LOCATION:Pfalzfeld
SUMMARY:SG Braunshorn II vs. SG Hambuch
DESCRIPTION:1. Mannschaft – Kreisliga B-Nord\nhttps://hambuch.info/events
 /sg-braunshorn-ii-vs-sg-hambuch-20200927/
URL:https://hambuch.info/events/sg-braunshorn-ii-vs-sg-hambuch-20200927/
END:VEVENT
END:VCALENDAR