BEGIN:VCALENDAR
VERSION:2.0
PRODID:-//eventon.com NONSGML v1.0//EN
CALSCALE:GREGORIAN
METHOD:PUBLISH
BEGIN:VEVENT
UID:69e6077ed7396
DTSTAMP:20260420T110118Z
DTSTART:20200916
DTEND:20200917
LOCATION:Kindergarten &quot;Rasselbande&quot; in Hambuch
SUMMARY:Lesekreis
DESCRIPTION:Lesekreis\nhttps://hambuch.info/events/lesekreis-20200916/
URL:https://hambuch.info/events/lesekreis-20200916/
END:VEVENT
END:VCALENDAR