BEGIN:VCALENDAR
VERSION:2.0
PRODID:-//eventon.com NONSGML v1.0//EN
CALSCALE:GREGORIAN
METHOD:PUBLISH
BEGIN:VEVENT
UID:69ed4108791c0
DTSTAMP:20260425T223240Z
DTSTART:20200320T200000Z
DTEND:20200320T235000Z
LOCATION:Feuerwehrgerätehaus
SUMMARY:Abgesagt - Jahreshauptversammlung der Freiwilligen Feuerwehr Hambuch
DESCRIPTION:Die für Freitag\,  den 20.03.2020 vorgesehene Jahreshauptversa
 mmlung der Freiwilligen Feuerwehr und des Fördervereins ist abgesagt.\nhtt
 ps://hambuch.info/events/jahreshauptversammlung-der-freiwilligen-feuerwehr-
 hambuch-20200320/
URL:https://hambuch.info/events/jahreshauptversammlung-der-freiwilligen-feuerwehr-hambuch-20200320/
END:VEVENT
END:VCALENDAR