BEGIN:VCALENDAR
VERSION:2.0
PRODID:-//eventon.com NONSGML v1.0//EN
CALSCALE:GREGORIAN
METHOD:PUBLISH
BEGIN:VEVENT
UID:69e5a1b60da7a
DTSTAMP:20260420T034702Z
DTSTART:20200109
DTEND:20200110
LOCATION:
SUMMARY:Elternsprechtag für die WZK
DESCRIPTION:(bitte achten Sie an allen Tagen auf den Terminplan\,  der im F
 lur aushängt)\nhttps://hambuch.info/events/elternsprechtag-fuer-die-wzk-20
 200109/
URL:https://hambuch.info/events/elternsprechtag-fuer-die-wzk-20200109/
END:VEVENT
END:VCALENDAR