BEGIN:VCALENDAR
VERSION:2.0
PRODID:-//eventon.com NONSGML v1.0//EN
CALSCALE:GREGORIAN
METHOD:PUBLISH
BEGIN:VEVENT
UID:69e6278ac0da5
DTSTAMP:20260420T131802Z
DTSTART:20200124
DTEND:20200125
LOCATION:
SUMMARY:Bibliothek
DESCRIPTION:Bibliothek\nhttps://hambuch.info/events/bibliothek-20200124/
URL:https://hambuch.info/events/bibliothek-20200124/
END:VEVENT
END:VCALENDAR