BEGIN:VCALENDAR
VERSION:2.0
PRODID:-//eventon.com NONSGML v1.0//EN
CALSCALE:GREGORIAN
METHOD:PUBLISH
BEGIN:VEVENT
UID:69eae00321ff1
DTSTAMP:20260424T031411Z
DTSTART:20201017
DTEND:20201018
LOCATION:Tannenhof Kirchstraße 36
SUMMARY:Oktoberfest auf dem Tannenhof
DESCRIPTION:Oktoberfest auf dem Tannenhof\nhttps://hambuch.info/events/okto
 berfest-auf-dem-tannenhof-2020/
URL:https://hambuch.info/events/oktoberfest-auf-dem-tannenhof-2020/
END:VEVENT
END:VCALENDAR