BEGIN:VCALENDAR
VERSION:2.0
PRODID:-//eventon.com NONSGML v1.0//EN
CALSCALE:GREGORIAN
METHOD:PUBLISH
BEGIN:VEVENT
UID:69e777cb1ca83
DTSTAMP:20260421T131243Z
DTSTART:20200523T140000Z
DTEND:20200523T235000Z
LOCATION:
SUMMARY:Dorfmeisterschaft/Fußball
DESCRIPTION:Dorfmeisterschaft/Fußball\nhttps://hambuch.info/events/dorfmei
 sterschaft-fussball-2020/
URL:https://hambuch.info/events/dorfmeisterschaft-fussball-2020/
END:VEVENT
END:VCALENDAR