BEGIN:VCALENDAR
VERSION:2.0
PRODID:-//eventon.com NONSGML v1.0//EN
CALSCALE:GREGORIAN
METHOD:PUBLISH
BEGIN:VEVENT
UID:69e618dc92b5a
DTSTAMP:20260420T121524Z
DTSTART:20231203T075000Z
DTEND:20231203T225000Z
LOCATION:Abtei Maria Laach
SUMMARY:Einkehr- und Kulturtag in der Abtei Maria Laach
DESCRIPTION:Liebe Schützenschwestern\,  Schützenbrüder\,  Jung und Schü
 lerschützen\,  am 3. Dezember (1. Adventsonntag) findet wieder der Einkehr
 - und Kulturtag in der Abtei Maria Laach statt. Beginn ist mit dem eintreff
 en der Teilnehmer um 08:50 Uhr. Um 09:00 Uhr findet dann das Konventamt sta
 tt. Anschl. Frühstückspause im Kloster. Um 10:45 Uhr Begrüßung der[..]\
 nhttps://hambuch.info/events/einkehr-und-kulturtag-in-der-abtei-maria-laach
 -2023/
URL:https://hambuch.info/events/einkehr-und-kulturtag-in-der-abtei-maria-laach-2023/
END:VEVENT
END:VCALENDAR