BEGIN:VCALENDAR
VERSION:2.0
PRODID:-//eventon.com NONSGML v1.0//EN
CALSCALE:GREGORIAN
METHOD:PUBLISH
BEGIN:VEVENT
UID:69e508ffa0538
DTSTAMP:20260419T165527Z
DTSTART:20191203T193000Z
DTEND:20191203T235000Z
LOCATION:Probstei Hambuch Hauptstraße 35
SUMMARY:5. Sitzung des Ortsgemeinderates Hambuch
DESCRIPTION:Am Dienstag\,  03.12.2019 um 19:30 Uhr findet eine öffentliche
  Sitzung statt. 5. Sitzung des Ortsgemeinderates Hambuch Gremien Ortsgemein
 derat Hambuch Ort Hambuch Raum Probstei Tagesordnung Öffentliche Sitzung: 
 Einwohnerfragestunde gemäß § 16 a GemO Beratung und Beschlussfassung üb
 er den Austritt der Ortsgemeinde Düngenheim aus dem Forstrevier Kaisersesc
 h Beratung und Beschlussfassung über die[..]\nhttps://hambuch.info/events/
 5-sitzung-des-ortsgemeinderates-hambuch-2019/
URL:https://hambuch.info/events/5-sitzung-des-ortsgemeinderates-hambuch-2019/
END:VEVENT
END:VCALENDAR