BEGIN:VCALENDAR
VERSION:2.0
PRODID:-//eventon.com NONSGML v1.0//EN
CALSCALE:GREGORIAN
METHOD:PUBLISH
BEGIN:VEVENT
UID:69ea5f1e27027
DTSTAMP:20260423T180414Z
DTSTART:20191119T190000Z
DTEND:20191119T235000Z
LOCATION:Probstei Hambuch Hauptstraße 35
SUMMARY:1. Sitzung des Rechnungsprüfungsausschusses des Ortsgemeinderates Hambuch
DESCRIPTION:Am Dienstag\,  19.11.2019 um 19:00 Uhr findet eine öffentliche
 /nicht-öffentliche Sitzung statt. 1. Sitzung des Rechnungsprüfungsausschu
 sses des Ortsgemeinderates Hambuch Gremien Rechnungsprüfungsausschuss Hamb
 uch Ort Hambuch Raum Probstei &nbsp; Tagesordnung Öffentliche Sitzung: Wah
 l einer/eines Ausschussvorsitzenden Mitteilungen der/des Vorsitzenden Nicht
 öffentliche Sitzung: 1.Prüfungsangelegenheit 2.Mitteilungen der/des Vorsi
 tzenden Ortsgemeinde Hambuch\,  11.11.2019 Matthias Hetger\,  Ortsbürgerme
 ister\nhttps://hambuch.info/events/1-sitzung-des-rechnungspruefungsausschus
 ses/
URL:https://hambuch.info/events/1-sitzung-des-rechnungspruefungsausschusses/
END:VEVENT
END:VCALENDAR