BEGIN:VCALENDAR
VERSION:2.0
PRODID:-//eventon.com NONSGML v1.0//EN
CALSCALE:GREGORIAN
METHOD:PUBLISH
BEGIN:VEVENT
UID:69ed8cb2c9b95
DTSTAMP:20260426T035530Z
DTSTART:20191027T100000Z
DTEND:20191027T120000Z
LOCATION:Schützenplatz Hambuch
SUMMARY:Schützenverein Hambuch: Training für alle Altersklassen
DESCRIPTION:Am Sonntag\,  den 27.10.2019 ist der Schützenplatz zum Trainin
 g für alle Altersklassen von 10:00-12:00 Uhr geöffnet. Trainingszeiten: J
 eden Donnerstag: 18:00 Uhr bis 20:30 Uhr\,  alle Altersklassen. www.schuetz
 enbruderschaft-hambuch.jimdo.com Allen Schützen wünschen wir „Gut Schus
 s“ und gesellige Stunden in Hambuch.\nhttps://hambuch.info/events/schuetz
 enverein-hambuch-training-fuer-alle-altersklassen/
URL:https://hambuch.info/events/schuetzenverein-hambuch-training-fuer-alle-altersklassen/
END:VEVENT
END:VCALENDAR